BEGIN:VCALENDAR
VERSION:2.0
PRODID:SchoolNow
CALSCALE:GREGORIAN
BEGIN:VEVENT
UID:536bb086-8998-11f0-a438-0a58a9feac02
DTSTAMP:20260320T041056Z
SUMMARY:CDD Board Meeting - Mar 26
LOCATION:Serenoa Club Amenity Center\, 17555 Sawgrass Bay Blvd\, Clermont\,
  FL 34714
URL;VALUE=URI:https://www.avalongrovescdd.org/calendar/8578449/cdd-board-me
 eting-mar-26
DTSTART:20260326T140000Z
DTEND:20260326T160000Z
ATTACH;FILENAME=@2026-03-26 Draft Agenda PACKET - AG.pdf;FMTTYPE=applicatio
 n/pdf:https://campussuite-storage.s3.amazonaws.com/prod/1558779/591920c2-a
 7db-11e9-8b25-127b6eacda64/3082003/a1fac4fc-2412-11f1-93b9-0eb47fac19db/fi
 le/@2026-03-26 Draft Agenda PACKET - AG.pdf
END:VEVENT
END:VCALENDAR
